BEGIN:VCALENDAR
VERSION:2.0
PRODID:Imitheme.com
BEGIN:VEVENT
UID:20260420T080449-985843718
DTSTAMP;TZID=UTC:1776672289
DTSTART;TZID=America/Los_Angeles:20260420T080449
DTEND;TZID=America/Los_Angeles:20260420T080449
SUMMARY:The Power of Giving: 2026 Philanthropy Awards
LOCATION:
DESCRIPTION: Join us for our annual celebration that shines a light on the individuals and businesses whose commitment to service uplifts our community. More than a celebration, this is a moment to pause and appreciate the collective power of philanthropy. Through service, leadership, and unwavering dedication, our honorees inspire progress and possibility. For more information and to register, click here.https://westfaironline.com/eventer/the-power-of-giving-2026-philanthropy-awards/
URL:https://westfaironline.com/eventer/the-power-of-giving-2026-philanthropy-awards/
END:VEVENT
END:VCALENDAR
