BEGIN:VCALENDAR
VERSION:2.0
PRODID:Imitheme.com
BEGIN:VEVENT
UID:20260420T093730-2072513828
DTSTAMP;TZID=UTC:1776677850
DTSTART;TZID=America/Los_Angeles:20260420T093730
DTEND;TZID=America/Los_Angeles:20260420T093730
SUMMARY:The Annual Imagine Gala
LOCATION:39 Brae Burn Dr, Purchase, NY 10577
DESCRIPTION: You are invited to an enchanting evening of imagination and warmth as United Way of Westchester and Putnam hosts the Imagine Gala, a celebration of the spirit of caring that unites our community. Together, we will honor extraordinary individuals whose vision and compassion have transformed lives across Westchester and Putnam Counties. We hope you will join us on Tuesday, June 2, 2026, at Brae Burn Country Club in Purchase, NY. For more information and to purchase tickets, click here. https://westfaironline.com/eventer/the-annual-imagine-gala/
URL:https://westfaironline.com/eventer/the-annual-imagine-gala/
END:VEVENT
END:VCALENDAR
