BEGIN:VCALENDAR
VERSION:2.0
PRODID:Imitheme.com
BEGIN:VEVENT
UID:20260420T145230-474677006
DTSTAMP;TZID=UTC:1776696750
DTSTART;TZID=America/Los_Angeles:20260420T145230
DTEND;TZID=America/Los_Angeles:20260420T145230
SUMMARY:38th Annual Golf Outing
LOCATION:
DESCRIPTION: For more information, and to register click here.https://westfaironline.com/eventer/38th-annual-golf-outing/
URL:https://westfaironline.com/eventer/38th-annual-golf-outing/
END:VEVENT
END:VCALENDAR
