BEGIN:VCALENDAR
VERSION:2.0
PRODID:Imitheme.com
BEGIN:VEVENT
UID:20260419T163346-1046630402
DTSTAMP;TZID=UTC:1776616426
DTSTART;TZID=America/Los_Angeles:20260419T163346
DTEND;TZID=America/Los_Angeles:20260419T163346
SUMMARY:Yale Innovation Summit
LOCATION:
DESCRIPTION: As the Northeast’s largest innovation gathering, the Summit convenes thousands of founders, funders, researchers, policymakers, creatives, and operators from across the globe for two high-energy days of ideas, investment, and unlikely collisions. With 60+ sessions across six tracks—arts, biotech, civic, climate, health, and tech—the Summit explores the forces of innovation that are reshaping our world. From breakthrough science to public policy innovation, from climate tech to creative entrepreneurship, this is where cross-sector ideas move from ideas to impact. Dynamic pitch competitions spotlight 300+ ventures competing for funding and visibility. Investors discover curated opportunities. Founders find partners. Students meet mentors. Industry leaders connect with what’s next. Hosted by Yale Ventures, the Summit reflects Yale’s entrepreneurial momentum—but it is designed for the broader innovation ecosystem. Click here for more information.https://westfaironline.com/eventer/yale-innovation-summit/
URL:https://westfaironline.com/eventer/yale-innovation-summit/
END:VEVENT
END:VCALENDAR
