BEGIN:VCALENDAR
VERSION:2.0
PRODID:Imitheme.com
BEGIN:VEVENT
UID:20260421T135825-2001149008
DTSTAMP;TZID=UTC:1776779905
DTSTART;TZID=America/Los_Angeles:20260421T135825
DTEND;TZID=America/Los_Angeles:20260421T135825
SUMMARY:Student Advocacy to Host 31st Annual “Overcoming the Odds” Awards Celebration Honoring Westchester Students
LOCATION:
DESCRIPTION: Student Advocacy, Inc. will host its 31st Annual Overcoming the Odds Awards Celebration on Tuesday, May 19 at Tappan Hill Mansion in Tarrytown, bringing together educators, community leaders, and local advocates for an evening centered on resilience, access, and achievement. The event will honor six students from across Westchester County who have overcome significant personal and academic challenges - from learning differences to mental health obstacles - to succeed in school. Throughout the evening, student honorees will share their stories, offering a powerful and personal look at the impact of advocacy and support systems in shaping their educational journeys. Emceed by WNBC’s Dave Price, the celebration will also recognize the Westchester County Bar Foundation as this year’s Community Partner Honoree, with support from Ambassador for Advocacy sponsors Acquavella Family Foundation and Karen and David Blumenthal. For more information, including tickets and sponsorship opportunities, visit studentadvocacy.net/2026-oto-event.https://westfaironline.com/eventer/student-advocacy-to-host-31st-annual-overcoming-the-odds-awards-celebration-honoring-westchester-students/
URL:https://westfaironline.com/eventer/student-advocacy-to-host-31st-annual-overcoming-the-odds-awards-celebration-honoring-westchester-students/
END:VEVENT
END:VCALENDAR
