BEGIN:VCALENDAR
VERSION:2.0
PRODID:Imitheme.com
BEGIN:VEVENT
UID:20260421T070152-2002452110
DTSTAMP;TZID=UTC:1776754912
DTSTART;TZID=America/Los_Angeles:20260421T070152
DTEND;TZID=America/Los_Angeles:20260421T070152
SUMMARY:Northwell Walk to Raise Health at Norwalk
LOCATION:
DESCRIPTION: Mark your calendars for Sunday, May 17 and join the Northwell Walk to Raise Health at Norwalk. The walk will bring Norwalk Hospital, neighbors, families and local businesses together to support patients, caregivers and lifesaving cancer care at the C. Anthony and Jean Whittingham Cancer Center.  Follow the link to register for the walk: https://northwellwalk.com/NR26 By walking, you’re helping to ensure no one in our community faces cancer alone. Funds raised help support local cancer care for our friends and neighbors so patients can access expert physicians, advanced treatments and supportive services close to home, surrounded by the people who know them best. The event is part of the Northwell Walk to Raise Health, connecting the Norwalk Hospital community with thousands of supporters across the region who share one goal: raising support for the care our communities rely on every day. Walkers will enjoy a beautiful route along the Norwalk waterfront while helping fund programs and services that support patients and families throughout our community. Every step helps strengthen resources, services and initiatives that keep high-quality health care close to home. As Terri Nackid shared about her experience at the Whittingham Cancer Center at Norwalk Hospital:  “Walking into the Whittingham Cancer Center is like walking into a hug.”   Hear more from Terri in this video: Join the Northwell Walk to Raise Health in Norwalk, CT    What’s new this year  - More ways to fundraise: Start a team and unlock new rewards as you raise funds throughout the fundraising season.  - VIP breakfast: Teams that raise $2,500 or more will be eligible for a VIP breakfast at the walk.  - Youth option (ages 13–17): A dedicated registration option with resources and rewards created exclusively for young participants.  Registration is now open. Gather your friends, family and coworkers, form a team, and be part of a region-wide movement to raise health. Register here: https://northwellwalk.com/NR26 https://westfaironline.com/eventer/northwell-walk-to-raise-health-at-norwalk/
URL:https://westfaironline.com/eventer/northwell-walk-to-raise-health-at-norwalk/
END:VEVENT
END:VCALENDAR
