BEGIN:VCALENDAR
VERSION:2.0
PRODID:Imitheme.com
BEGIN:VEVENT
UID:20260419T175507-505220625
DTSTAMP;TZID=UTC:1776621307
DTSTART;TZID=America/Los_Angeles:20260419T175507
DTEND;TZID=America/Los_Angeles:20260419T175507
SUMMARY:2026 Spring Gala: Honoring Women in Food & Agriculture
LOCATION:
DESCRIPTION: Join us for our 2026 Spring Gala on May 17th honoring women in food and agriculture, featuring special guests Sheryll Durrant, Iming Lin, Congresswoman Chellie Pingree, Ruth Reichl, and Martha Stewart. All proceeds from the event support Stone Barns Center for Food & Agriculture. The evening will include a research showcase and cocktail reception, dinner by Blue Hill and a conversation with the honorees, and live music and dancing. For tickets, click here. For table sales, please contact Ashley Edery, Blue Hill Director of Events, ashley@bluehillfarm.com https://westfaironline.com/eventer/2026-spring-gala-honoring-women-in-food-agriculture/
URL:https://westfaironline.com/eventer/2026-spring-gala-honoring-women-in-food-agriculture/
END:VEVENT
END:VCALENDAR
