BEGIN:VCALENDAR
VERSION:2.0
PRODID:Imitheme.com
BEGIN:VEVENT
UID:20260422T083445-1913564593
DTSTAMP;TZID=UTC:1776846885
DTSTART;TZID=America/Los_Angeles:20260422T083445
DTEND;TZID=America/Los_Angeles:20260422T083445
SUMMARY:Mission Possible: Why Your Audit and Form 990 Matter to Funders
LOCATION:Online
DESCRIPTION: Click here to register.https://westfaironline.com/eventer/mission-possible-why-your-audit-and-form-990-matter-to-funders/
URL:https://westfaironline.com/eventer/mission-possible-why-your-audit-and-form-990-matter-to-funders/
END:VEVENT
END:VCALENDAR
