BEGIN:VCALENDAR
VERSION:2.0
PRODID:Imitheme.com
BEGIN:VEVENT
UID:20260425T131016-27967789
DTSTAMP;TZID=UTC:1777122616
DTSTART;TZID=America/Los_Angeles:20260425T131016
DTEND;TZID=America/Los_Angeles:20260425T131016
SUMMARY:In the Company of Women
LOCATION:
DESCRIPTION: In the Company of Women is the YWCA White Plains & Central Westchester’s signature annual gathering, bringing together leaders, supporters, and partners who help shape the fabric of our community. This gathering weaves stories of leadership, service, and shared purpose, creating space to connect and recognize those whose commitment advances equity and opportunity across Westchester. Your ticket purchase supports YWCA programs that empower women, uplift children, and advance peace, justice, freedom, and dignity for all. When you join us, you become part of a collective thread, linking nearly a century of impact to the work still unfolding. We look forward to welcoming you into this space of connection and lasting impact. Questions? Please contact us at dev@ywcawpcw.org For more information, and to register, click here.https://westfaironline.com/eventer/in-the-company-of-women/
URL:https://westfaironline.com/eventer/in-the-company-of-women/
END:VEVENT
END:VCALENDAR
