BEGIN:VCALENDAR
VERSION:2.0
PRODID:Imitheme.com
BEGIN:VEVENT
UID:20260423T040720-1605349108
DTSTAMP;TZID=UTC:1776917240
DTSTART;TZID=America/Los_Angeles:20260423T040720
DTEND;TZID=America/Los_Angeles:20260423T040720
SUMMARY:2026 Bruce Gala: Natural Wonders
LOCATION:
DESCRIPTION: Tickets are now available for the 2026 Bruce Gala: Natural Wonders. To secure your seats and join us on May 2 to celebrate the Bruce and all it does for the community, purchase tickets and tables HERE. An Evening to Benefit the Bruce Saturday, May 2, 2026 6–11pm Creative Black Tie Valet Parking Live, Silent, and Art Auction Riverside Yacht Club 102 Club Road Riverside, CT 06878 Tickets will be reserved at the door. https://westfaironline.com/eventer/2026-bruce-gala-natural-wonders/
URL:https://westfaironline.com/eventer/2026-bruce-gala-natural-wonders/
END:VEVENT
END:VCALENDAR
