BEGIN:VCALENDAR
VERSION:2.0
PRODID:Imitheme.com
BEGIN:VEVENT
UID:20260424T081239-1939493219
DTSTAMP;TZID=UTC:1777018359
DTSTART;TZID=America/Los_Angeles:20260424T081239
DTEND;TZID=America/Los_Angeles:20260424T081239
SUMMARY:Ribbon Cutting: FASTSIGNS of New Rochelle
LOCATION:
DESCRIPTION: You\'re invited to a Ribbon Cutting to celebrate the grand opening of FASTSIGNS of New Rochelle at 371 North Avenue, New Rochelle. The New Rochelle Chamber of Commerce will be hosting their Ribbon Cutting Ceremony on Friday, May 1st at 2:00pm. FASTSIGNS of New Rochelle brings decades of industry expertise to businesses throughout the region, delivering custom signs and banners that not only look professional but also drive measurable results. They serve businesses across New Rochelle, Yonkers, White Plains and the greater Westchester area with comprehensive signage services designed to simplify promotional needs. At FASTSIGNS of New Rochelle, clients work with knowledgeable professionals who understand both the technical requirements and creative possibilities of effective branding materials. �� Friday, May 1st �� 2:00 PM Ribbon Cutting �� 371 North Avenue, New Rochelle �� Parking on street as available, or municipal parking in the North Avenue at Thruway Lot and the Lawn Avenue Lot FASTSIGNS of New Rochelle knows successful businesses recognize that signage is an investment in their brand, not just an expense. FASTSIGNS takes that investment seriously by delivering custom signage and graphics solutions that align with a client\'s business goals, budget, and timeline. FASTSIGNS combines strategic consultation, creative design, precision manufacturing, and expert installation to ensure every project exceeds expectations. Learn more about FASTSIGNS of New Rochelle at: https://www.fastsigns.com/new-rochelle-ny/ Kindly RSVP here if you will be attending the Ribbon-Cutting Celebration at 2:00pm Friday, May 1st.https://westfaironline.com/eventer/ribbon-cutting-fastsigns-of-new-rochelle/
URL:https://westfaironline.com/eventer/ribbon-cutting-fastsigns-of-new-rochelle/
END:VEVENT
END:VCALENDAR
