BEGIN:VCALENDAR
VERSION:2.0
PRODID:Imitheme.com
BEGIN:VEVENT
UID:20260419T125653-1819095297
DTSTAMP;TZID=UTC:1776603413
DTSTART;TZID=America/Los_Angeles:20260419T125653
DTEND;TZID=America/Los_Angeles:20260419T125653
SUMMARY:Voices in Autism Leadership Awards 2026
LOCATION:
DESCRIPTION: Let\'s Honor Autism Awareness Month Together   This year, Yes She Can is proud to host the Voices In Autism Leadership Awards, where we will honor the dedication and outstanding work of individuals and organizations who have significantly contributed to advancing awareness, education, and support for the autism community. Join us on April 30th at The Mansion on Broadway from 6:00 to 9:00 for an inspiring evening of celebration and recognition. It will be an unforgettable night of meaningful connections, heartfelt speeches, and the presentation of prestigious awards highlighting the incredible leaders shaping the future of autistic individuals. We can\'t wait to share with you this special evening. For more information, click here. https://westfaironline.com/eventer/voices-in-autism-leadership-awards-2026/
URL:https://westfaironline.com/eventer/voices-in-autism-leadership-awards-2026/
END:VEVENT
END:VCALENDAR
