BEGIN:VCALENDAR
VERSION:2.0
PRODID:Imitheme.com
BEGIN:VEVENT
UID:20260422T023516-1737429356
DTSTAMP;TZID=UTC:1776825316
DTSTART;TZID=America/Los_Angeles:20260422T023516
DTEND;TZID=America/Los_Angeles:20260422T023516
SUMMARY:2026 Annual Trustees' Scholarship Gala
LOCATION:Glen Island Harbour Club
DESCRIPTION: The Mercy University Trustees’ Scholarship Gala celebrates the transformative power of higher education. On Thursday, April 30, 2026, at the Glen Island Harbour Club in New Rochelle, NY, we will honor our distinguished honorees and unite our dedicated supporters in a shared commitment to educating and empowering future generations. If you have any questions, click here or email us at events@mercy.edu.https://westfaironline.com/eventer/2026-annual-trustees-scholarship-gala/
URL:https://westfaironline.com/eventer/2026-annual-trustees-scholarship-gala/
END:VEVENT
END:VCALENDAR
