BEGIN:VCALENDAR
VERSION:2.0
PRODID:Imitheme.com
BEGIN:VEVENT
UID:20260421T102428-1388498664
DTSTAMP;TZID=UTC:1776767068
DTSTART;TZID=America/Los_Angeles:20260421T102428
DTEND;TZID=America/Los_Angeles:20260421T102428
SUMMARY:Fairfield County's 40 Under Forty
LOCATION:
DESCRIPTION: Fairfield County\'s 40 Under Forty is more than just an accolade; it\'s a powerful platform to recognize the high-caliber individuals who are achieving remarkable milestones in their industries and making significant strides in our community. These individuals embody grit, dare to be bold, and inspire others with their innovative ideas and passion. This honor not only showcases their accomplishments but also enhances their professional visibility, potentially opening doors to future opportunities. We not only set the standard for excellence, we raise the bar every year demanding the best from those who dare to redfine success. To nominate, click here. Nomination deadline is February 6. 2026 NOMINATION REQUIREMENTS - Be over 25 and under 40 years of age - Be a leader who’s part of Fairfield County’s business growth - Live or work in Fairfield county - Has not previously won this competition For more information or to purchase tickets, click here. Chamber Partners Brookfield Chamber of Commerce | CBIA |  Darien Chamber of Commerce | Fairfield Chamber of Commerce | Greater Danbury Chamber of Commerce | Greater Norwalk Chamber of Commerce | Greater Valley Chamber of Commerce | Greenwich Chamber of Commerce | Bridgeport Regional Business Council | Ridgefield Chamber of Commerce | Stamford Chamber of Commerce | Westport-Weston Chamber of Commerce | Wilton Chamber of Commerce https://westfaironline.com/eventer/fairfield-countys-40-under-forty/
URL:https://westfaironline.com/eventer/fairfield-countys-40-under-forty/
END:VEVENT
END:VCALENDAR
