BEGIN:VCALENDAR
VERSION:2.0
PRODID:Imitheme.com
BEGIN:VEVENT
UID:20260419T192541-363872786
DTSTAMP;TZID=UTC:1776626741
DTSTART;TZID=America/Los_Angeles:20260419T192541
DTEND;TZID=America/Los_Angeles:20260419T192541
SUMMARY:Multi-Chamber Networking Mixer at Windrose on Hudson
LOCATION:
DESCRIPTION: Join us for our biggest networking event of the year! The Greater Ossining Chamber of Commerce is partnering with local Chambers of Commerce from across our neighboring Westchester communities.  The event is free to participating Chamber members, and $25 for non members. 1 (beer/wine) beverage is included, with cash bar available. A light Chef\'s Choice dinner will be served. Register here.https://westfaironline.com/eventer/multi-chamber-networking-mixer-at-windrose-on-hudson/
URL:https://westfaironline.com/eventer/multi-chamber-networking-mixer-at-windrose-on-hudson/
END:VEVENT
END:VCALENDAR
