BEGIN:VCALENDAR
VERSION:2.0
PRODID:Imitheme.com
BEGIN:VEVENT
UID:20260425T195817-2887053
DTSTAMP;TZID=UTC:1777147097
DTSTART;TZID=America/Los_Angeles:20260425T195817
DTEND;TZID=America/Los_Angeles:20260425T195817
SUMMARY:Earth Day Festival
LOCATION:
DESCRIPTION: You’re invited to a sustainable lil’ Sunday at the Bedford Village Memorial Park from 12-4 this weekend, April 26th! Our Earth Day Festival lineup is fantastically curated for a whimsical spring day out with the fam. Come for the plant-based tacos and beer, stay for the free expert advice on non-toxic living and gardening giveaways. In co-partnership with Bedford Rec & Parks, we’re thrilled to be back with a bigger Earth Day Festival than ever, and we hope to see you there for a gorgeous day of celebrating our favorite gal pal planet, Mother Earth. Rain date: May 3rd.https://westfaironline.com/eventer/earth-day-festival-2/
URL:https://westfaironline.com/eventer/earth-day-festival-2/
END:VEVENT
END:VCALENDAR
