BEGIN:VCALENDAR
VERSION:2.0
PRODID:Imitheme.com
BEGIN:VEVENT
UID:20260422T070045-477864491
DTSTAMP;TZID=UTC:1776841245
DTSTART;TZID=America/Los_Angeles:20260422T070045
DTEND;TZID=America/Los_Angeles:20260422T070045
SUMMARY:Spring Semester Student Showcase, Art Exhibition & Recital
LOCATION:
DESCRIPTION: These incredible art and music students have worked SO HARD this semester. They can\'t wait to share all they\'ve learned and achieved with all of you!https://westfaironline.com/eventer/spring-semester-student-showcase-art-exhibition-recital/
URL:https://westfaironline.com/eventer/spring-semester-student-showcase-art-exhibition-recital/
END:VEVENT
END:VCALENDAR
