BEGIN:VCALENDAR
VERSION:2.0
PRODID:Imitheme.com
BEGIN:VEVENT
UID:20260420T002240-724518759
DTSTAMP;TZID=UTC:1776644560
DTSTART;TZID=America/Los_Angeles:20260420T002240
DTEND;TZID=America/Los_Angeles:20260420T002240
SUMMARY:Coffee Before Business with Ossining Food Pantry
LOCATION:
DESCRIPTION: https://westfaironline.com/eventer/coffee-before-business-with-ossining-food-pantry/
URL:https://westfaironline.com/eventer/coffee-before-business-with-ossining-food-pantry/
END:VEVENT
END:VCALENDAR
