BEGIN:VCALENDAR
VERSION:2.0
PRODID:Imitheme.com
BEGIN:VEVENT
UID:20260419T150654-1283799687
DTSTAMP;TZID=UTC:1776611214
DTSTART;TZID=America/Los_Angeles:20260419T150654
DTEND;TZID=America/Los_Angeles:20260419T150654
SUMMARY:Fashioning America: 250 years of Greenwich Style
LOCATION:
DESCRIPTION: Greenwich Historical Society presents the third and final exhibition in the series celebrating America’s 250th—Fashioning America: 250 years of Greenwich Style, chronicling the evolution of American fashion and how these styles reflect changes in American society and culture. For 250 years, the ideals of the American Revolution, as expressed in the Declaration of Independence, have helped shape our national identity—and these enduring principles are reflected in the fashions we have worn throughout history and choose to wear today. The clothing in this exhibition is drawn primarily from the Greenwich Historical Society’s collection with many pieces exhibited for the first time, as well as pieces lent by local museums and women who shared clothing that represent important events in their lives. For more information, click here.https://westfaironline.com/eventer/fashioning-america-250-years-of-greenwich-style/
URL:https://westfaironline.com/eventer/fashioning-america-250-years-of-greenwich-style/
END:VEVENT
END:VCALENDAR
