BEGIN:VCALENDAR
VERSION:2.0
PRODID:Imitheme.com
BEGIN:VEVENT
UID:20260422T052604-923317579
DTSTAMP;TZID=UTC:1776835564
DTSTART;TZID=America/Los_Angeles:20260422T052604
DTEND;TZID=America/Los_Angeles:20260422T052604
SUMMARY:Girls Got Game 2026
LOCATION:
DESCRIPTION: Event contact: Patricia Laine plaine@wphospital.org 914.681.2264 For more information, click here. Ticket Price: $160 https://westfaironline.com/eventer/girls-got-game-2026/
URL:https://westfaironline.com/eventer/girls-got-game-2026/
END:VEVENT
END:VCALENDAR
