BEGIN:VCALENDAR
VERSION:2.0
PRODID:Imitheme.com
BEGIN:VEVENT
UID:20260420T232748-113295966
DTSTAMP;TZID=UTC:1776727668
DTSTART;TZID=America/Los_Angeles:20260420T232748
DTEND;TZID=America/Los_Angeles:20260420T232748
SUMMARY:Strong, Smart & Bold Gala
LOCATION:Glen Island Harbour Club
DESCRIPTION: GIWC is a full-year empowerment and leadership development organization dedicated to making a meaningful difference in the lives of girls. We seek to inspire all girls to be Strong, Smart, and Bold! The Strong Smart & Bold Gala is our largest fundraiser and helps to support the year-round programs that we offer to over 500 girls a year - all free of charge to girls and their families. For more information and tickets, click here.https://westfaironline.com/eventer/strong-smart-bold-gala-2/
URL:https://westfaironline.com/eventer/strong-smart-bold-gala-2/
END:VEVENT
END:VCALENDAR
