BEGIN:VCALENDAR
VERSION:2.0
PRODID:Imitheme.com
BEGIN:VEVENT
UID:20260422T053640-2046029713
DTSTAMP;TZID=UTC:1776836200
DTSTART;TZID=America/Los_Angeles:20260422T053640
DTEND;TZID=America/Los_Angeles:20260422T053640
SUMMARY:2026 Nonprofit Leadership Summit
LOCATION:735 Anderson Hill Road, Purchase, NY 10577
DESCRIPTION: United Way of Westchester and Putnam’s Nonprofit Leadership Summit brings together visionary leaders, practitioners, and changemakers to share insights, forge connections, and explore innovative strategies that will empower your organization to thrive! Together, we will reflect on the critical issues facing our sector, celebrate our shared commitment to mission-driven work, and equip ourselves with the tools and inspiration needed to lead with purpose in the year ahead. The summit will include a Q&A session following each keynote address, breakout sessions, a vendor tabling area, lunch, and networking opportunities. This event is designed to support professional development for nonprofit staff and volunteers across the region.  Tickets are $75 per person or $65 each for groups of five or more. For ticket information, sponsorships, vendor booths, and the like, please contact Laurie Noel at lnoel@uwwp.org or 914-997-6700 ext 740. For more information, and to register, click here.https://westfaironline.com/eventer/2026-nonprofit-leadership-summit/
URL:https://westfaironline.com/eventer/2026-nonprofit-leadership-summit/
END:VEVENT
END:VCALENDAR
