BEGIN:VCALENDAR
VERSION:2.0
PRODID:Imitheme.com
BEGIN:VEVENT
UID:20260421T105830-1259928875
DTSTAMP;TZID=UTC:1776769110
DTSTART;TZID=America/Los_Angeles:20260421T105830
DTEND;TZID=America/Los_Angeles:20260421T105830
SUMMARY:Artists For Humanity NYC Teen Artists Mural Unveiling
LOCATION:
DESCRIPTION: Gretchen Menzies of The Katonah Reading Room commissioned Artists For Humanity NYC teen artists to paint a mural for her rear parking lot. The mural—part of the Katonah Art Walk which is from 3-7 on 4/18–will be unveiled at 3pm. Live music, ice cream, coffee, treats will be available on site at this fun, colorful, community event at the Katonah Reading Room.https://westfaironline.com/eventer/artists-for-humanity-nyc-teen-artists-mural-unveiling/
URL:https://westfaironline.com/eventer/artists-for-humanity-nyc-teen-artists-mural-unveiling/
END:VEVENT
END:VCALENDAR
