BEGIN:VCALENDAR
VERSION:2.0
PRODID:Imitheme.com
BEGIN:VEVENT
UID:20260420T185335-1888157399
DTSTAMP;TZID=UTC:1776711215
DTSTART;TZID=America/Los_Angeles:20260420T185335
DTEND;TZID=America/Los_Angeles:20260420T185335
SUMMARY:An Evening In Good Taste
LOCATION:125 Westchester Ave. White Plains, NY 10601
DESCRIPTION: Enjoy an extraordinary evening of restaurant tastings, fine wine, craft beers, cocktails, a silent auction, and networking to help bring healthy, nutritious food to your neighbors at risk of hunger.  For more information, and to purchase tickets, click here.https://westfaironline.com/eventer/an-evening-in-good-taste/
URL:https://westfaironline.com/eventer/an-evening-in-good-taste/
END:VEVENT
END:VCALENDAR
