BEGIN:VCALENDAR
VERSION:2.0
PRODID:Imitheme.com
BEGIN:VEVENT
UID:20260422T102742-1368330459
DTSTAMP;TZID=UTC:1776853662
DTSTART;TZID=America/Los_Angeles:20260422T102742
DTEND;TZID=America/Los_Angeles:20260422T102742
SUMMARY:"State of the Industry" Panel Discussion - Part 1
LOCATION:
DESCRIPTION: Hear from Marketing Professionals in the Tourism, Entertainment, Recreation, Financial, and Healthcare segments on how they are navigating the competitive and challenging landscape. Moderated by our member company, NBC CT, these leaders in their vertical markets will provide insights to their success, their innovative approaches to reach their target audiences, and how they stand out in a competitive marketplace. Panelists: George Galinsky, Connecticut Sun Morgan Nyerick, State of CT Tourism Tim Restall, Hartford Yard Goats Kecia Stauffer, Access Health CT Jeff Wilson, Citizens Join us on Thursday, April 16th at 8 AM for a hot breakfast and an interesting discussion at the Lyceum Conference Center at 227 Lawrence Street in Hartford. Reserve your seat today at registration@adclubct.org. Members $45, non-members $65. Deadline for reservations is Tuesday, April 7, 2026. No tickets sold at the door. https://westfaironline.com/eventer/state-of-the-industry-panel-discussion-part-1/
URL:https://westfaironline.com/eventer/state-of-the-industry-panel-discussion-part-1/
END:VEVENT
END:VCALENDAR
