BEGIN:VCALENDAR
VERSION:2.0
PRODID:Imitheme.com
BEGIN:VEVENT
UID:20260422T073106-2145786659
DTSTAMP;TZID=UTC:1776843066
DTSTART;TZID=America/Los_Angeles:20260422T073106
DTEND;TZID=America/Los_Angeles:20260422T073106
SUMMARY:2026 Real Estate Panel
LOCATION:305 Ridgeway, White Plains, NY 10605
DESCRIPTION: Join Westfair Business Journal\'s Annual Real Estate Event to connect with top developers, property owners, and industry leaders. Discover insights on affordable housing, future developments, and changing demographics while networking with influential figures in Westchester and Fairfield Counties. Be part of the conversation and elevate your presence in the real estate industry.https://westfaironline.com/eventer/2026-real-estate-panel/
URL:https://westfaironline.com/eventer/2026-real-estate-panel/
END:VEVENT
END:VCALENDAR
