BEGIN:VCALENDAR
VERSION:2.0
PRODID:Imitheme.com
BEGIN:VEVENT
UID:20260420T180202-299507482
DTSTAMP;TZID=UTC:1776708122
DTSTART;TZID=America/Los_Angeles:20260420T180202
DTEND;TZID=America/Los_Angeles:20260420T180202
SUMMARY:AI Agents Are Rewriting Digital Marketing Webinar
LOCATION:Online
DESCRIPTION: Register here. https://westfaironline.com/eventer/ai-agents-are-rewriting-digital-marketing-webinar/
URL:https://westfaironline.com/eventer/ai-agents-are-rewriting-digital-marketing-webinar/
END:VEVENT
END:VCALENDAR
