BEGIN:VCALENDAR
VERSION:2.0
PRODID:Imitheme.com
BEGIN:VEVENT
UID:20260421T015538-131158976
DTSTAMP;TZID=UTC:1776736538
DTSTART;TZID=America/Los_Angeles:20260421T015538
DTEND;TZID=America/Los_Angeles:20260421T015538
SUMMARY:New Rochelle Racquet Club's 50th Anniversary
LOCATION:
DESCRIPTION: The New Rochelle Racquet Club (NRRC) has been proudly serving New Rochelle for 50 years! To celebrate the 50th Anniversary of one of our longstanding businesses, the New Rochelle Chamber of Commerce is hosting a 50th Anniversary Cake Cutting Ceremony (instead of a Ribbon Cutting) for the New Rochelle Racquet Club on Tuesday, April 7th at 2:00pm at 130 Rhodes Street, New Rochelle.  You\'re invited to join us on Tuesday, April 7th at 2:00pm to celebrate this momentous anniversary.  The NR Chamber always celebrates the ribbon cuttings of new businesses, but we cannot overlook the importance of our City\'s legacy businesses and their sustainability. So, we are celebrating with cake! The New Rochelle Racquet Club is a leading indoor tennis facility in the Westchester community. Known for its outstanding programs for both children and adults, they are focused on enhancing and nurturing a player\'s tennis game through a logical progression, providing structured programs that are driven by love and passion for the game. Their pros are among the best in the industry, well versed in all levels of instruction and dedicated to helping players reach their goals on the court. They have 6 weather-proof, heated and air-conditioned indoor tennis courts. The New Rochelle Racquet Club offers USTA tournaments for all levels of competition, is the home of Westchester’s top Junior tournament players and also the host of various regional competitions. The New Rochelle Racquet Club is the part of Pine Brook Fitness - a multi-sports fitness facility in New Rochelle. Pinebrook Fitness has created 2 other businesses on their campus - The Rock Club and The Studios. The NR Chamber is thrilled by their constant reinvestment in New Rochelle and the longevity of their business success.  📍  130 Rhodes Street, New Rochelle  🚗 Parking Lot on Premises   Learn more about New Rochelle Racquet Club at: https://pinebrookfitness.com/new-rochelle-racquet-club/  and Pine Brook Fitness at: https://pinebrookfitness.com/ Kindly RSVP here if you will be attending the Cake-Cutting Celebration at 2:00pm Tuesday, April 7th. Thank you. #ShopLocal https://westfaironline.com/eventer/new-rochelle-racquet-clubs-50th-anniversary/
URL:https://westfaironline.com/eventer/new-rochelle-racquet-clubs-50th-anniversary/
END:VEVENT
END:VCALENDAR
