BEGIN:VCALENDAR
VERSION:2.0
PRODID:Imitheme.com
BEGIN:VEVENT
UID:20260420T214827-340460396
DTSTAMP;TZID=UTC:1776721707
DTSTART;TZID=America/Los_Angeles:20260420T214827
DTEND;TZID=America/Los_Angeles:20260420T214827
SUMMARY:Hudson Valley Alliance for Housing and Conservation webinar
LOCATION:Online
DESCRIPTION: For more information and to register, click here.https://westfaironline.com/eventer/hudson-valley-alliance-for-housing-and-conservation-webinar/
URL:https://westfaironline.com/eventer/hudson-valley-alliance-for-housing-and-conservation-webinar/
END:VEVENT
END:VCALENDAR
