BEGIN:VCALENDAR
VERSION:2.0
PRODID:Imitheme.com
BEGIN:VEVENT
UID:20260419T210901-540602752
DTSTAMP;TZID=UTC:1776632941
DTSTART;TZID=America/Los_Angeles:20260419T210901
DTEND;TZID=America/Los_Angeles:20260419T210901
SUMMARY:The Guidance Center of Westchester Gala
LOCATION:Glen Island Harbour Club
DESCRIPTION: To register, click here.https://westfaironline.com/eventer/the-guidance-center-of-westchester-gala/
URL:https://westfaironline.com/eventer/the-guidance-center-of-westchester-gala/
END:VEVENT
END:VCALENDAR
