BEGIN:VCALENDAR
VERSION:2.0
PRODID:Imitheme.com
BEGIN:VEVENT
UID:20260423T053438-109860782
DTSTAMP;TZID=UTC:1776922478
DTSTART;TZID=America/Los_Angeles:20260423T053438
DTEND;TZID=America/Los_Angeles:20260423T053438
SUMMARY:Cowrie Shells Exhibition: Symbols of Wealth, Beauty & Spirituality
LOCATION:
DESCRIPTION: Cowrie Shells: Symbols of Wealth, Beauty & Spirituality explores the rich cultural history of cowrie shells across Africa and the diaspora. Once used as currency, sacred adornment, and spiritual protection, these remarkable shells carry deep meanings of prosperity, identity, and ancestral connection. For more information, click here.https://westfaironline.com/eventer/cowrie-shells-exhibition-symbols-of-wealth-beauty-spirituality/
URL:https://westfaironline.com/eventer/cowrie-shells-exhibition-symbols-of-wealth-beauty-spirituality/
END:VEVENT
END:VCALENDAR
