BEGIN:VCALENDAR
VERSION:2.0
PRODID:Imitheme.com
BEGIN:VEVENT
UID:20260422T125236-1815862554
DTSTAMP;TZID=UTC:1776862356
DTSTART;TZID=America/Los_Angeles:20260422T125236
DTEND;TZID=America/Los_Angeles:20260422T125236
SUMMARY:Here Comes the Sun: Make Solar Work for You
LOCATION:
DESCRIPTION: https://westfaironline.com/eventer/here-comes-the-sun-make-solar-work-for-you/
URL:https://westfaironline.com/eventer/here-comes-the-sun-make-solar-work-for-you/
END:VEVENT
END:VCALENDAR
