BEGIN:VCALENDAR
VERSION:2.0
PRODID:Imitheme.com
BEGIN:VEVENT
UID:20260421T100553-1037263025
DTSTAMP;TZID=UTC:1776765953
DTSTART;TZID=America/Los_Angeles:20260421T100553
DTEND;TZID=America/Los_Angeles:20260421T100553
SUMMARY:The Duke Ellington School of the Arts High School Show Choir
LOCATION:
DESCRIPTION: https://westfaironline.com/eventer/the-duke-ellington-school-of-the-arts-high-school-show-choir/
URL:https://westfaironline.com/eventer/the-duke-ellington-school-of-the-arts-high-school-show-choir/
END:VEVENT
END:VCALENDAR
