BEGIN:VCALENDAR
VERSION:2.0
PRODID:Imitheme.com
BEGIN:VEVENT
UID:20260419T110552-524054598
DTSTAMP;TZID=UTC:1776596752
DTSTART;TZID=America/Los_Angeles:20260419T110552
DTEND;TZID=America/Los_Angeles:20260419T110552
SUMMARY:Made in America Onshoring Workshop-Tools
LOCATION:Online
DESCRIPTION: Join the Made in America Onshoring Workshop online to learn the Onshoring Tool connecting with U.S. manufacturers, producers, and suppliers. Welcome to the Made In America Onshoring Workshop! Join us for an exciting online event where you\'ll dive into all things Made in America and learn more about Onshoring Portal. This free tool from SBA helps connect businesses with verified U.S. manufacturers, producers, and suppliers. It’s built to support companies that want to onshore operations, strengthen their supply chains, and source the components they need—all proudly Made in the USA. American-made isn’t just a label. It’s a commitment to quality, security, and strength. Don\'t miss out! Click here to register. Join on your computer, mobile app or room device. Microsoft Teams meeting Join: https://teams.microsoft.com/meet/27432402582037?p=cacyjAuxnuut4je9Gz Meeting ID: 274 324 025 820 37 Passcode: YK2g9zk9 Need help? | System reference Dial in by phone +1 202-765-1264,,857892809# United States, Washington Find a local number Phone conference ID: 857 892 809# If you have any questions, please email to: john.xu@sba.gov https://westfaironline.com/eventer/made-in-america-onshoring-workshop-tools/
URL:https://westfaironline.com/eventer/made-in-america-onshoring-workshop-tools/
END:VEVENT
END:VCALENDAR
