BEGIN:VCALENDAR
VERSION:2.0
PRODID:Imitheme.com
BEGIN:VEVENT
UID:20260419T100931-1863239887
DTSTAMP;TZID=UTC:1776593371
DTSTART;TZID=America/Los_Angeles:20260419T100931
DTEND;TZID=America/Los_Angeles:20260419T100931
SUMMARY:SBA Loan Programs and Resources Virtual Session
LOCATION:Online
DESCRIPTION: Hi Small Business Owners and Entrepreneurs: Join us online on March 11th at 11 am for an informative session on SBA Loan Programs and Resources to help your business grow and thrive. It costs money to start a business. Funding your business is one of the first — and most important — financial choices most business owners make. How you choose to fund your business could affect how you structure and run your business. SBA guarantees commercial loans making it easier for small businesses to get funding by reducing lenders’ risk. Funds can be used for most business purposes, from working capital to long-term fixed assets financing. SBA loan amounts range from $500 to $5.5 million processed by SBA-authorized bank lenders and non-bank lenders. The one-hour webinar will discuss the following topics: • SBA Loan New Eligibility Requirements • What Lenders Look For-5 Cs • Preparing a Business Plan to Meet with Your Lender • SBA Loan Programs (7(a), 504 and microloan) • SBA Lender Match Platform to Get Matched with a Lender • Small Business Resources For more information and to register, click here. https://westfaironline.com/eventer/sba-loan-programs-and-resources-virtual-session/
URL:https://westfaironline.com/eventer/sba-loan-programs-and-resources-virtual-session/
END:VEVENT
END:VCALENDAR
