BEGIN:VCALENDAR
VERSION:2.0
PRODID:Imitheme.com
BEGIN:VEVENT
UID:20260424T014718-932075660
DTSTAMP;TZID=UTC:1776995238
DTSTART;TZID=America/Los_Angeles:20260424T014718
DTEND;TZID=America/Los_Angeles:20260424T014718
SUMMARY:An Experiential Economy Presentation
LOCATION:
DESCRIPTION: For more information, click here.https://westfaironline.com/eventer/an-experiential-economy-presentation/
URL:https://westfaironline.com/eventer/an-experiential-economy-presentation/
END:VEVENT
END:VCALENDAR
