BEGIN:VCALENDAR
VERSION:2.0
PRODID:Imitheme.com
BEGIN:VEVENT
UID:20260420T035834-418090361
DTSTAMP;TZID=UTC:1776657514
DTSTART;TZID=America/Los_Angeles:20260420T035834
DTEND;TZID=America/Los_Angeles:20260420T035834
SUMMARY:Housing Workshop: Find Housing and Housing Resources
LOCATION:Online
DESCRIPTION: Unlock successful homeownership secrets! Join us February 25th, 12 PM, for an exclusive workshop with Linda Hunt from Westchester Residential Opportunities Learn to: - Current open lotteries & waitlists - Navigate rentals & home ownership opportunities - tax foreclosure grant   ** Plus, learn from WDOM about navigating New York\'s health care system, with a presentation on CHA (Community Health Advocates) 🏡🤝**   Don\'t miss it: Wednesday, February 25th, 12 PM Register here.https://westfaironline.com/eventer/housing-workshop-find-housing-and-housing-resources/
URL:https://westfaironline.com/eventer/housing-workshop-find-housing-and-housing-resources/
END:VEVENT
END:VCALENDAR
