BEGIN:VCALENDAR
VERSION:2.0
PRODID:Imitheme.com
BEGIN:VEVENT
UID:20260426T002853-231170448
DTSTAMP;TZID=UTC:1777163333
DTSTART;TZID=America/Los_Angeles:20260426T002853
DTEND;TZID=America/Los_Angeles:20260426T002853
SUMMARY:Sip and Create | Chocolate Indulges: A Hands-On Workshop
LOCATION:31 Mamaroneck Ave White Plains, NY 10601
DESCRIPTION: Hands-on chocolate + wine night! Learn tempering, make ganache, dip strawberries, roll truffles, and take home sweet skills. Join us for a hands-on chocolate experience paired with wine! You’ll learn the essentials of working with chocolate, including tempering and making ganache, while enjoying a relaxed, social atmosphere. Guests will dip strawberries, roll and customize 6 to 8 ganache truffles with unique flavors like matcha, cocoa, sea salt, and chili pepper. We’ll finish with creative techniques and tips you can try at home. Part of ArtsWestchester\'s Sip & Create monthly series, this event is perfect for chocolate lovers and anyone looking for a fun, interactive evening! Not allergen friendly! Tickets can be purchased here (seats are limted): - $50 General Admission - $45 ArtsW member (code required)Become a member today and receive $5.00 off your ticket.Prices do not reflect service and processing fees. ArtsWestchester’s historic landmark building at 31 Mamaroneck Avenue is the perfect relaxed and social environment to gather with family and friends, enjoy a date night, or network with fellow art enthusiasts, all while engaging in arts activities – from music and ceramics to dance and painting. The 2026 season offers a variety of art workshops at a reasonable cost. Ticket prices include the workshop, art supplies and two complimentary beverages of your choice. Snacks and/or small bites available for purchase. All skill levels are welcome! https://westfaironline.com/eventer/sip-and-create-chocolate-indulges-a-hands-on-workshop/
URL:https://westfaironline.com/eventer/sip-and-create-chocolate-indulges-a-hands-on-workshop/
END:VEVENT
END:VCALENDAR
