BEGIN:VCALENDAR
VERSION:2.0
PRODID:Imitheme.com
BEGIN:VEVENT
UID:20260419T222025-1793931667
DTSTAMP;TZID=UTC:1776637225
DTSTART;TZID=America/Los_Angeles:20260419T222025
DTEND;TZID=America/Los_Angeles:20260419T222025
SUMMARY:Exclusive Furniture Pop-Up Sale at Wainwright House
LOCATION:
DESCRIPTION: JFH Design to Host Exclusive Furniture Pop-Up Sale at Wainwright House Local interior designer and Rye resident Claire Bosch, owner of JFH Design, is pleased to announce a curated Furniture Pop-Up Sale taking place February 6 & 7 at the historic Wainwright House. Known for her signature eclectic, high-end aesthetic, Bosch will offer a wide selection of premium home furnishings and decor to the public. The two-day event provides a unique opportunity for design enthusiasts to shop a professionally curated collection including: chairs, sofas, ottomans, tables, lamps, mirrors, and pillows. Whether you are looking for a statement piece to anchor a room or high-end accessories to refresh your space, this pop-up brings JFH Design’s renowned style directly to the local community. For more information, click here.https://westfaironline.com/eventer/exclusive-furniture-pop-up-sale-at-wainwright-house/
URL:https://westfaironline.com/eventer/exclusive-furniture-pop-up-sale-at-wainwright-house/
END:VEVENT
END:VCALENDAR
