BEGIN:VCALENDAR
VERSION:2.0
PRODID:Imitheme.com
BEGIN:VEVENT
UID:20260422T193801-853959656
DTSTAMP;TZID=UTC:1776886681
DTSTART;TZID=America/Los_Angeles:20260422T193801
DTEND;TZID=America/Los_Angeles:20260422T193801
SUMMARY:Bowl to Build
LOCATION:
DESCRIPTION: The Junior Friends of White Plains Hospital is hosting Bowl to Build, a fundraiser for the Hospital\'s Emergency Room on February 1 at Bowlero in White Plains.https://westfaironline.com/eventer/bowl-to-build/
URL:https://westfaironline.com/eventer/bowl-to-build/
END:VEVENT
END:VCALENDAR
