BEGIN:VCALENDAR
VERSION:2.0
PRODID:Imitheme.com
BEGIN:VEVENT
UID:20260424T005005-325576225
DTSTAMP;TZID=UTC:1776991805
DTSTART;TZID=America/Los_Angeles:20260424T005005
DTEND;TZID=America/Los_Angeles:20260424T005005
SUMMARY:Women In Power 2026
LOCATION:Manhattanville, 2900 Purchase Street, Purchase, NY 10577
DESCRIPTION: Join Citrin Cooperman and Westfair Business Journal at the 2026 Women in Power at Manhattanville University. Connect with influential women leaders and gain empowering insights on leadership, work-life balance, and overcoming barriers. Celebrate women\'s strength and network with industry innovators to elevate your success.https://westfaironline.com/eventer/women-in-power-2026/
URL:https://westfaironline.com/eventer/women-in-power-2026/
END:VEVENT
END:VCALENDAR
