BEGIN:VCALENDAR
VERSION:2.0
PRODID:Imitheme.com
BEGIN:VEVENT
UID:20260423T170835-283845548
DTSTAMP;TZID=UTC:1776964115
DTSTART;TZID=America/Los_Angeles:20260423T170835
DTEND;TZID=America/Los_Angeles:20260423T170835
SUMMARY:Hispanic Innovators
LOCATION:305 Ridgeway, White Plains, NY 10605
DESCRIPTION: Latino-owned businesses play a vital role in shaping the U.S. economy. These trailblazing entrepreneurs are responsible for generating two-thirds of all new jobs in America and account for nearly half of the private-sector output. Their remarkable growth and success not only bolster economic vitality but also drive community development and enhance cultural diversity throughout the nation. The Hispanic Innovators Awards is more than just an awards ceremony; it\'s a vibrant celebration of the Hispanic business community and the individuals driving its success. The event recognizes those who are making a tangible impact through innovation, entrepreneurship, and dedication to economic progress, while also providing a valuable networking opportunity to connect with fellow leaders and entrepreneurs. For more information, click here. To become a sponsor, click here. To purchase tickets, click here. https://westfaironline.com/eventer/hispanic-innovators/
URL:https://westfaironline.com/eventer/hispanic-innovators/
END:VEVENT
END:VCALENDAR
