BEGIN:VCALENDAR
VERSION:2.0
PRODID:Imitheme.com
BEGIN:VEVENT
UID:20260424T192752-522616152
DTSTAMP;TZID=UTC:1777058872
DTSTART;TZID=America/Los_Angeles:20260424T192752
DTEND;TZID=America/Los_Angeles:20260424T192752
SUMMARY:Driving Your Business: Women at the Wheel New York City
LOCATION:
DESCRIPTION: Join us for our Driving Your Business: Women at the Wheel New York City conference and awards on Thursday, November 20 at Citrin Cooperman\'s New York City Headquarters. Our panel of four extraordinary women leaders will share candid perspectives and introspective stories about their journeys to the top of their professions. Enjoy our networking cocktail hour, panel discussion, and leadership recognition awards presented to top women leaders - the ones who inspire us and who continue to pave the way for women to become future leaders driving Metro New York business.https://westfaironline.com/eventer/driving-your-business-women-at-the-wheel-new-york-city/
URL:https://westfaironline.com/eventer/driving-your-business-women-at-the-wheel-new-york-city/
END:VEVENT
END:VCALENDAR
