BEGIN:VCALENDAR
VERSION:2.0
PRODID:Imitheme.com
BEGIN:VEVENT
UID:20260424T205217-1074727037
DTSTAMP;TZID=UTC:1777063937
DTSTART;TZID=America/Los_Angeles:20260424T205217
DTEND;TZID=America/Los_Angeles:20260424T205217
SUMMARY:The Hudson Valley Future Summit
LOCATION:
DESCRIPTION: Click here for to learn more and to register.https://westfaironline.com/eventer/the-hudson-valley-future-summit/
URL:https://westfaironline.com/eventer/the-hudson-valley-future-summit/
END:VEVENT
END:VCALENDAR
