BEGIN:VCALENDAR
VERSION:2.0
PRODID:Imitheme.com
BEGIN:VEVENT
UID:20260425T211403-2141241539
DTSTAMP;TZID=UTC:1777151643
DTSTART;TZID=America/Los_Angeles:20260425T211403
DTEND;TZID=America/Los_Angeles:20260425T211403
SUMMARY:Greenwich Chamber Annual Meeting
LOCATION:
DESCRIPTION: Click here to register.https://westfaironline.com/eventer/greenwich-chamber-annual-meeting/
URL:https://westfaironline.com/eventer/greenwich-chamber-annual-meeting/
END:VEVENT
END:VCALENDAR
