BEGIN:VCALENDAR
VERSION:2.0
PRODID:Imitheme.com
BEGIN:VEVENT
UID:20260422T193919-1660741071
DTSTAMP;TZID=UTC:1776886759
DTSTART;TZID=America/Los_Angeles:20260422T193919
DTEND;TZID=America/Los_Angeles:20260422T193919
SUMMARY:Build Connections and a Winning Side Hustle
LOCATION:
DESCRIPTION: click here for more information.https://westfaironline.com/eventer/build-connections-and-a-winning-side-hustle/
URL:https://westfaironline.com/eventer/build-connections-and-a-winning-side-hustle/
END:VEVENT
END:VCALENDAR
