BEGIN:VCALENDAR
VERSION:2.0
PRODID:Imitheme.com
BEGIN:VEVENT
UID:20260419T160214-1543487555
DTSTAMP;TZID=UTC:1776614534
DTSTART;TZID=America/Los_Angeles:20260419T160214
DTEND;TZID=America/Los_Angeles:20260419T160214
SUMMARY:Stay In The Know: Empire State Jobs Program 101
LOCATION:Online
DESCRIPTION: Join us for an informative session with Diane Kennedy, President of the New York News Publishers Association (NYNPA), as she provides key updates on industry support and advocacy efforts surrounding the Empire State Newspaper & Broadcast Media Jobs Program, an initiative designed to protect jobs and strengthen the long-term sustainability of local media across New York. This webinar will help members understand how the program works, what it means for their organizations, and how to prepare to take full advantage of this opportunity. For more information and to register, click here.https://westfaironline.com/eventer/stay-in-the-know-empire-state-jobs-program-101/
URL:https://westfaironline.com/eventer/stay-in-the-know-empire-state-jobs-program-101/
END:VEVENT
END:VCALENDAR
