BEGIN:VCALENDAR
VERSION:2.0
PRODID:Imitheme.com
BEGIN:VEVENT
UID:20260421T180420-1813720471
DTSTAMP;TZID=UTC:1776794660
DTSTART;TZID=America/Los_Angeles:20260421T180420
DTEND;TZID=America/Los_Angeles:20260421T180420
SUMMARY:Coffee + Conversations: Financial Future
LOCATION:
DESCRIPTION: Join us for the next HVEDC Coffee + Conversations at Mount Saint Mary College to learn more about how nonprofits should financially prepare for the road ahead. Hear from expert panelists from Webster Bank, Your Part-Time Controller, PKF O\'Connor Davies and Abilities First on best practices for banking services, board engagement, funding diversity and more! Whether you are new to the nonprofit world, a member of a Board of Directors, or the CFO, this panel is designed to be an educational and informational conversation on the future of finance in the nonprofit sector. We hope you can join us! To learn more and to register, click here.https://westfaironline.com/eventer/coffee-conversations-financial-future/
URL:https://westfaironline.com/eventer/coffee-conversations-financial-future/
END:VEVENT
END:VCALENDAR
