BEGIN:VCALENDAR
VERSION:2.0
PRODID:Imitheme.com
BEGIN:VEVENT
UID:20260422T194500-441320145
DTSTAMP;TZID=UTC:1776887100
DTSTART;TZID=America/Los_Angeles:20260422T194500
DTEND;TZID=America/Los_Angeles:20260422T194500
SUMMARY:Chamber After Hours Networking Event
LOCATION:
DESCRIPTION: Chamber After Hours Networking Event Hartford HealthCare Cancer Institute at the Fairfield Cancer Center Join us for an engaging evening of networking and discovery as we come together to connect with business and community leaders from across the region. Evening Highlights Include: • Networking with local professionals and leaders • Guided tours of Hartford HealthCare’s brand-new Cancer Center • Insights into state-of-the-art cancer care services • Complimentary appetizers & refreshments Whether you\'re looking to expand your professional network or learn more about this incredible new facility, this is an evening you won’t want to miss. RSVP Today https://westfaironline.com/eventer/chamber-after-hours-networking-event/
URL:https://westfaironline.com/eventer/chamber-after-hours-networking-event/
END:VEVENT
END:VCALENDAR
