BEGIN:VCALENDAR
VERSION:2.0
PRODID:Imitheme.com
BEGIN:VEVENT
UID:20260422T180657-1250712115
DTSTAMP;TZID=UTC:1776881217
DTSTART;TZID=America/Los_Angeles:20260422T180657
DTEND;TZID=America/Los_Angeles:20260422T180657
SUMMARY:Bulls of Wall Street: High Finance, Power, and Social Change in Victorian America
LOCATION:
DESCRIPTION:  48 p. On Sept. 4, 2025, 12-4 p.m. The Lockwood-Mathews Mansion Museum will open a new exhibition titled, “Bulls of Wall Street: High Finance, Power, and Social Change in Victorian America.” The exhibition will feature rare and never-before-seen period artifacts, photos, documents, and costumes from public and private collections. Attached please find a press release and three images with captions and credits. From the New York Evening Telegraph, February 18th, 1870. Reprinted in One Moral Standard for All: Extracts from the lives of Victoria Claflin Woodhull and Tennessee Claflin. Museum of the City of New York The first Wall Street stock brokerage owned by women opened February 5, 1870, by Ohio-born sisters Victoria Claflin Woodhull and Tennessee Claflin, and was funded by Cornelius “Commodore” Vanderbilt. Wall Street, 1847, drawn by August Kollner, lithographed by Deroy, courtesy of NYSE Jay Gould Cartoon, circa 1886, Courtesy Timothy V. Welo For more information on tours and programs, please visit www.lockwoodmathewsmansion.com, email info@lockwoodmathewsmansion.com, or call 203-838-9799.  https://westfaironline.com/eventer/bulls-of-wall-street-high-finance-power-and-social-change-in-victorian-america/
URL:https://westfaironline.com/eventer/bulls-of-wall-street-high-finance-power-and-social-change-in-victorian-america/
END:VEVENT
END:VCALENDAR
